BEGIN:VCALENDAR
VERSION:2.0
PRODID:-//Un été sous les Marronniers - ECPv6.4.0.1//NONSGML v1.0//EN
CALSCALE:GREGORIAN
METHOD:PUBLISH
X-WR-CALNAME:Un été sous les Marronniers
X-ORIGINAL-URL:https://etesousmarronniers.ch
X-WR-CALDESC:évènements pour Un été sous les Marronniers
REFRESH-INTERVAL;VALUE=DURATION:PT1H
X-Robots-Tag:noindex
X-PUBLISHED-TTL:PT1H
BEGIN:VTIMEZONE
TZID:Europe/Zurich
BEGIN:DAYLIGHT
TZOFFSETFROM:+0100
TZOFFSETTO:+0200
TZNAME:CEST
DTSTART:20240331T010000
END:DAYLIGHT
BEGIN:STANDARD
TZOFFSETFROM:+0200
TZOFFSETTO:+0100
TZNAME:CET
DTSTART:20241027T010000
END:STANDARD
END:VTIMEZONE
BEGIN:VEVENT
DTSTART;TZID=Europe/Zurich:20240831T200000
DTEND;TZID=Europe/Zurich:20240831T200000
DTSTAMP:20260424T072026
CREATED:20240527T080302Z
LAST-MODIFIED:20240528T085316Z
UID:30268-1725134400-1725134400@etesousmarronniers.ch
SUMMARY:De la sexualité des orchidées – Conférence spectacle de Sofia Teillet
DESCRIPTION:ESPIÈGLERIE SCIENTIFIQUE \nEn collaboration avec l’Usine à Gaz \nOn la trouve partout – en promotion aux caisses des magasins de bricolage\, dans les vitrines des assurances\, dans les toilettes des Airbnb\, parfois dans sa version plastique – mais que savons-nous vraiment de l’orchidée\, maîtresse de l’évolution\, de la survie et de la résilience ? \nÀ mi-chemin entre la conférence scientifique et le one woman show décalé\, Sofia Teillet se penche avec science et humour sur les super-pouvoirs reproducteurs de l’orchidée et nous fait découvrir les arcanes de sa surprenante sexualité. Comment le pollen passe-t-il du sexe masculin au sexe féminin ? Cet acte d’apparence simple s’avère être une opération complexe et technique. \nAvec espièglerie et sérieux\, la comédienne nous partage diverses questions que l’on peut se poser en observant le vivant. Et contre toute attente\, son analyse détaillée permet d’en savoir un peu plus sur tout un tas de choses. Une leçon de biologie des plus savoureuses et jubilatoires !
URL:https://etesousmarronniers.ch/event/de-la-sexualite-des-orchidees-conference-spectacle-de-sofia-teillet/
CATEGORIES:Arts vivants,Humour
ATTACH;FMTTYPE=image/jpeg:https://etesousmarronniers.ch/wp-content/uploads/2024/05/@Marguerite-Bornhauser_Sofia-Teillet_03-scaled.jpg
END:VEVENT
END:VCALENDAR